BEGIN:VCALENDAR
VERSION:2.0
PRODID:-//Breslins Club
CALSCALE:GREGORIAN
METHOD:PUBLISH
X-WR-CALNAME:Breslins Club
X-ORIGINAL-URL:https://breslinsclub.co.uk/product/breslins-club-launch-night/
X-WR-CALDESC:Breslins Club Launch Night
BEGIN:VEVENT
DTSTART;TZID=Europe/Paris:20200213T163000
DTEND;TZID=Europe/Paris:20200213T180000
SUMMARY:Breslins Club Launch Night
DESCRIPTION:
URL:https://breslinsclub.co.uk/product/breslins-club-launch-night/
LOCATION:Theatrix, 130 Colmore Row, Birmingham, B3 3AP
END:VEVENT
END:VCALENDAR
