BEGIN:VCALENDAR
VERSION:2.0
PRODID:-//Breslins Club
CALSCALE:GREGORIAN
METHOD:PUBLISH
X-WR-CALNAME:Breslins Club
X-ORIGINAL-URL:https://breslinsclub.co.uk/product/breslins-club-expert-drop-in-2/
X-WR-CALDESC:Breslins Club Expert Drop In
BEGIN:VEVENT
DTSTART;TZID=Europe/Paris:20200227T150000
DTEND;TZID=Europe/Paris:20200227T180000
SUMMARY:Breslins Club Expert Drop In
DESCRIPTION:
URL:https://breslinsclub.co.uk/product/breslins-club-expert-drop-in-2/
LOCATION:Theatrix, 130 Colmore Row, Birmingham, B3 3AP
END:VEVENT
END:VCALENDAR
