BEGIN:VCALENDAR
VERSION:2.0
PRODID:-//Breslins Club
CALSCALE:GREGORIAN
METHOD:PUBLISH
X-WR-CALNAME:Breslins Club
X-ORIGINAL-URL:https://breslinsclub.co.uk/product/breslins-club-b-connected-event/
X-WR-CALDESC:Breslins Club @ Nortons bar
BEGIN:VEVENT
DTSTART;TZID=Europe/Paris:20200312T163000
DTEND;TZID=Europe/Paris:20200312T180000
SUMMARY:Breslins Club @ Nortons bar
DESCRIPTION:
URL:https://breslinsclub.co.uk/product/breslins-club-b-connected-event/
LOCATION:Nortons, 43-45 Meriden St, Birmingham, B5 5LS
END:VEVENT
END:VCALENDAR
